BEGIN:VCALENDAR
VERSION:2.0
PRODID:-//St. Andrew Orthodox Church - ECPv6.6.4.2//NONSGML v1.0//EN
CALSCALE:GREGORIAN
METHOD:PUBLISH
X-WR-CALNAME:St. Andrew Orthodox Church
X-ORIGINAL-URL:https://www.saint-andrew.org
X-WR-CALDESC:Events for St. Andrew Orthodox Church
REFRESH-INTERVAL;VALUE=DURATION:PT1H
X-Robots-Tag:noindex
X-PUBLISHED-TTL:PT1H
BEGIN:VTIMEZONE
TZID:America/Denver
BEGIN:DAYLIGHT
TZOFFSETFROM:-0700
TZOFFSETTO:-0600
TZNAME:MDT
DTSTART:20260308T090000
END:DAYLIGHT
BEGIN:STANDARD
TZOFFSETFROM:-0600
TZOFFSETTO:-0700
TZNAME:MST
DTSTART:20261101T080000
END:STANDARD
END:VTIMEZONE
BEGIN:VEVENT
DTSTART;TZID=America/Denver:20260423T083000
DTEND;TZID=America/Denver:20260423T093000
DTSTAMP:20260423T022215
CREATED:20260417T221506Z
LAST-MODIFIED:20260417T221506Z
UID:4980-1776933000-1776936600@www.saint-andrew.org
SUMMARY:Divine Liturgy
DESCRIPTION:
URL:https://www.saint-andrew.org/event/divine-liturgy-349/
END:VEVENT
BEGIN:VEVENT
DTSTART;TZID=America/Denver:20260423T100000
DTEND;TZID=America/Denver:20260423T153000
DTSTAMP:20260423T022215
CREATED:20250729T141747Z
LAST-MODIFIED:20250729T141747Z
UID:4198-1776938400-1776958200@www.saint-andrew.org
SUMMARY:Homeschool Co-op
DESCRIPTION:
URL:https://www.saint-andrew.org/event/homeschool-co-op-29/
END:VEVENT
END:VCALENDAR